BEGIN:VCALENDAR
VERSION:2.0
PRODID:-//SHT Selbstheilungstechnik Roberto Antela Martinez - ECPv6.15.20//NONSGML v1.0//EN
CALSCALE:GREGORIAN
METHOD:PUBLISH
X-WR-CALNAME:SHT Selbstheilungstechnik Roberto Antela Martinez
X-ORIGINAL-URL:https://sht-zielerreichung.com
X-WR-CALDESC:Veranstaltungen für SHT Selbstheilungstechnik Roberto Antela Martinez
REFRESH-INTERVAL;VALUE=DURATION:PT1H
X-Robots-Tag:noindex
X-PUBLISHED-TTL:PT1H
BEGIN:VTIMEZONE
TZID:Europe/Berlin
BEGIN:DAYLIGHT
TZOFFSETFROM:+0100
TZOFFSETTO:+0200
TZNAME:CEST
DTSTART:20240331T010000
END:DAYLIGHT
BEGIN:STANDARD
TZOFFSETFROM:+0200
TZOFFSETTO:+0100
TZNAME:CET
DTSTART:20241027T010000
END:STANDARD
BEGIN:DAYLIGHT
TZOFFSETFROM:+0100
TZOFFSETTO:+0200
TZNAME:CEST
DTSTART:20250330T010000
END:DAYLIGHT
BEGIN:STANDARD
TZOFFSETFROM:+0200
TZOFFSETTO:+0100
TZNAME:CET
DTSTART:20251026T010000
END:STANDARD
BEGIN:DAYLIGHT
TZOFFSETFROM:+0100
TZOFFSETTO:+0200
TZNAME:CEST
DTSTART:20260329T010000
END:DAYLIGHT
BEGIN:STANDARD
TZOFFSETFROM:+0200
TZOFFSETTO:+0100
TZNAME:CET
DTSTART:20261025T010000
END:STANDARD
BEGIN:DAYLIGHT
TZOFFSETFROM:+0100
TZOFFSETTO:+0200
TZNAME:CEST
DTSTART:20270328T010000
END:DAYLIGHT
BEGIN:STANDARD
TZOFFSETFROM:+0200
TZOFFSETTO:+0100
TZNAME:CET
DTSTART:20271031T010000
END:STANDARD
END:VTIMEZONE
BEGIN:VEVENT
DTSTART;TZID=Europe/Berlin:20260419T110000
DTEND;TZID=Europe/Berlin:20260419T170000
DTSTAMP:20260422T161139
CREATED:20260113T183818Z
LAST-MODIFIED:20260220T171926Z
UID:10000012-1776596400-1776618000@sht-zielerreichung.com
SUMMARY:Aktivierung deines Seelenplans für deine Selbstheilung - "Heiltag"
DESCRIPTION:Oftmals gibt es Blockaden\, die uns daran hindern mit unserem Seelenplan eins zu werden und diesen wahrhaftig zu leben. An diesem Tag kann ich Dich dabei unterstützen diese Blockaden zu lösen\, damit Du in Deine Erfüllung kommst. \nDeshalb biete ich auf vielfachen Wunsch noch einmal an\, die wirkungsvollsten Techniken von meiner 30-jährigen Reise um die Welt um Heilung zu erlangen\, bei Einzelnen anzuwenden. \nWenn du dabei sein möchtest\, melde dich gleich an\, da die Plätze begrenzt sind❣️ \nIch freue mich wenn Du dabei bist und ich Dich unterstützen darf. \nWenn Du noch Fragen hast\, ruf gerne die Service-Hotline Tel. 🇩🇪+49 163-9151722 an oder schreib eine Email an sht@selbstheilungstechnik.com \nWir sind für Dich da. \nEinlass 10:00 Uhr\, Beginn 11:00 Uhr bis ca. 17:00 Uhr \n\nWo: Mehrzweckhalle Westerheim\, Bahnhofstr. 2 in 87784 Westerheim – Bitte achte auf die genaue Adresse\, da es in Deutschland mehrere Orte mit diesem Namen gibt! \nGetränke\, Kaffee und Tee stehen zum Kauf bereit\, sowie Brezn\, belegte Brötchen und was Süßes. \nBITTE BEACHTEN:  DIESMAL GIBT ES KEIN MITTAGESSEN / CATERING VOR ORT! Bring Dir deshalb gerne etwas zum Essen mit oder nutze unser Angebot vor Ort. \n\nBitte wähle zuerst die gewünschte Ticketanzahl (über + und -) und klicke dann auf “Tickets kaufen”
URL:https://sht-zielerreichung.com/event/aktivierung-deines-seelenplans-fuer-deine-selbstheilung-2/
LOCATION:Mehrzweckhalle Westerheim\, Bahnhofstr. 2\, Westerheim\, 87784\, Germany
CATEGORIES:Live-Seminar,Roberto Antela Martinez
ATTACH;FMTTYPE=image/jpeg:https://sht-zielerreichung.com/wp-content/uploads/2026/01/Baum-Heiltag_quer.jpg
ORGANIZER;CN="Bleib Gesund %E2%80%93 Bildungsverein f%C3%BCr ganzheitliche Gesundheit und Wohlbefinden in Verbindung mit der pragmatischen Selbsthilfe":MAILTO:sht@selbstheilungstechnik.com
END:VEVENT
BEGIN:VEVENT
DTSTART;TZID=Europe/Berlin:20260418T110000
DTEND;TZID=Europe/Berlin:20260418T190000
DTSTAMP:20260422T161139
CREATED:20250930T174953Z
LAST-MODIFIED:20260417T083037Z
UID:10000010-1776510000-1776538800@sht-zielerreichung.com
SUMMARY:Lichtertreffen
DESCRIPTION:Sei kostenfrei bei unserem Lichtertreffen dabei ✨🌈✨🌈✨ am Samstag\, den 18. April 2026. \nwir werden ein hochschwingendes Fest feiern und unser Zusammensein genießen\, zu unserem Wohle und zum Wohle des Ganzen 🙏💜🙏💜🙏 \nIch freue mich sehr\, wenn Du dabei bist. Alle sind willkommen – ob Mastercoach oder nicht. \nWenn Du noch Fragen hast\, ruf gerne die Service-Hotline Tel. 🇩🇪+49 163-9151722 an oder schreib eine Email an sht@selbstheilungstechnik.com \nWir sind für Dich da. \nEinlass 10:00 Uhr\, Beginn 11:00 Uhr bis ca. 19:00 Uhr \n\nWo: Mehrzweckhalle Westerheim\, Bahnhofstr. 2 in 87784 Westerheim – Bitte achte auf die genaue Adresse\, da es in Deutschland mehrere Orte mit diesem Namen gibt! \nGetränke\, Kaffee und Tee stehen zum Kauf bereit\, sowie Brezn\, belegte Brötchen und was Süßes. \nBITTE BEACHTEN:  DIESMAL GIBT ES KEIN MITTAGESSEN / CATERING VOR ORT! Bring Dir deshalb gerne etwas zum Essen mit oder nutze unser Angebot vor Ort.\n\nBitte wähle zuerst die gewünschte Ticketanzahl (über + und -) und klicke dann auf “Tickets kaufen”
URL:https://sht-zielerreichung.com/event/lichtertreffen/
LOCATION:Mehrzweckhalle Westerheim\, Bahnhofstr. 2\, Westerheim\, 87784\, Germany
CATEGORIES:Live-Seminar,Roberto Antela Martinez
ATTACH;FMTTYPE=image/jpeg:https://sht-zielerreichung.com/wp-content/uploads/2025/09/IMG_20250928_145039_967_1920px.jpg
ORGANIZER;CN="Bleib Gesund %E2%80%93 Bildungsverein f%C3%BCr ganzheitliche Gesundheit und Wohlbefinden in Verbindung mit der pragmatischen Selbsthilfe":MAILTO:sht@selbstheilungstechnik.com
END:VEVENT
BEGIN:VEVENT
DTSTART;TZID=Europe/Berlin:20250518T110000
DTEND;TZID=Europe/Berlin:20250518T180000
DTSTAMP:20260422T161139
CREATED:20250117T192617Z
LAST-MODIFIED:20250505T201620Z
UID:10000007-1747566000-1747591200@sht-zielerreichung.com
SUMMARY:SHT® Quantum Healing und Trauma-Auflösung nach Martinez
DESCRIPTION:Durch SHT® findest Du Entspannung\, Gesundheit und kannst Deine Selbstheilung wieder aktivieren. \nDie SHT® verbindet Jahrtausende alte östliche\, asiatische\, indische sowie westliche Heiltechniken\, die ihre Wirkung nicht verfehlen. Diese werden nach einem bestimmten Schema und in einer festgelegten Reihenfolge angewendet. Ob emotionale\, seelische\, mentale oder körperliche Schmerzen vorhanden sind spielt dabei keine Rolle. \nDas hat nichts mit Glauben zu tun\, sondern es geht hier um eine reale Erfahrung aus der Praxis. Wenn wir einen Safe öffnen wollen\, brauchen wir die richtige Kombination. Wenn auch nur eine Zahl fehlt\, dann öffnet sich der Safe nicht. \nDie SHT® Quantum Healing ist eine der wirkungsvollsten Techniken der Selbstheilung. \nLerne wie man sich mit der Quelle verbindet. \nNutze diese Kraft\, um deine körperlichen\, emotionalen und mentalen Beschwerden selbst zu heilen\, gemäß der alten hawaiianischen Weisheit. \nSo kannst du deine Selbstheilung wieder aktivieren. \nOb emotionale\, seelische\, mentale oder körperliche Schmerzen vorhanden sind spielt dabei keine Rolle. \nSHT® Quantum Healing kann für alles verwendet werden. Ob physische oder psychische Probleme\, Konflikte\, nicht förderliche Glaubenssätze u.v.m.. Sie ist leicht erlernbar und es bedarf keinerlei Vorkenntnisse. \n\nTrauma-Auflösung nach Martinez \nDiese tausende Jahre alte Technik ist außerirdischen Ursprungs und ermöglicht es uns\, die Erinnerungen an bewusste und unbewusste Traumata\, an dieses und vergangene Leben\, aus unserem Feld zu lösen. \nDamit erleichtert sie die Belastung und hilft der Seele\, ihre Entwicklung fortzusetzen. \nKörperliches Leiden\, jede Krankheit\, entsteht aus einem ungelösten Traumata…. \nTrauma-Auflösung ist ein wichtiger Prozess der hilft\, emotionale Blockaden zu überwinden und ein erfüllteres Leben zu genießen. \nJeder Mensch hat viele traumatische Erlebnisse\, die ihn prägen\, blockieren und programmieren. Diese Erlebnisse sind auch in jeder Körperzelle gespeichert. \nDie Trauma-Auflösung unterstützt also die Harmonisierung auf jeder Ebene. \n  \nEs sind keinerlei Vorkenntnisse erforderlich 🍀🍀🍀 \n  \nWann: 18. Mai 2025 von 11:00 bis ca. 18:00 Uhr – Einlass 10:00 Uhr \nWo: Drexel´s Landgut Adler\, Ursberger Str. 20\, 86381 Krumbach\, Deutschland \nEssen und Getränke stehen zum Kauf bereit. \n❣️ AM VERANSTALTUNGSORT SELBST GIBT ES KEINE ÜBERNACHTUNGSMÖGLICHKEITEN – bitte deshalb nicht dort anrufen❣️ Bitte in der näheren Umgebung selbst etwas passendes suchen.
URL:https://sht-zielerreichung.com/event/sht-quantum-healing-und-trauma-aufloesung-martinez/
LOCATION:Drexel´s Landgut Adler\, Ursberger Str. 20\, Krumbach\, 86381\, Germany
CATEGORIES:Live-Seminar,Roberto Antela Martinez
ATTACH;FMTTYPE=image/jpeg:https://sht-zielerreichung.com/wp-content/uploads/2025/01/IMAGE-2025-01-15-145926.jpg
ORGANIZER;CN="Bleib Gesund %E2%80%93 Bildungsverein f%C3%BCr ganzheitliche Gesundheit und Wohlbefinden in Verbindung mit der pragmatischen Selbsthilfe":MAILTO:sht@selbstheilungstechnik.com
END:VEVENT
BEGIN:VEVENT
DTSTART;TZID=Europe/Berlin:20250517T130000
DTEND;TZID=Europe/Berlin:20250517T190000
DTSTAMP:20260422T161139
CREATED:20250115T145446Z
LAST-MODIFIED:20250425T111751Z
UID:10000006-1747486800-1747508400@sht-zielerreichung.com
SUMMARY:Aktivierung deines Seelenplans für deine Selbstheilung - "Heiltag"
DESCRIPTION:Krankheiten und Schmerzen entstehen durch Traumatas und dadurch sind auch emotionale Blockaden vorhanden. Sie können sich auf vielfältige Weise äußern und verschiedene Symptome hervorrufen. \nHier sind einige der häufigsten Symptome\, die auf emotionale Blockaden hinweisen können und dadurch Krankheiten entstehen könnten: \n\nanhaltende Angst\nmotionale Taubheit\nSchwierigkeiten bei der Entscheidungsfindung\nwiederkehrende negative Gedanken\nnegative Gedankenmuster\n\nOder auch körperliche Symptome – da emotionale Blockaden sich auch körperlich äußern – z. B. durch Verspannungen\, Kopfschmerzen\, Magenbeschwerden oder andere psychosomatische Beschwerden. \nBeziehungen leiden dann auch darunter. \nMeditation ist eine wirkungsvolle Technik\, um den Geist zu beruhigen und die Selbstheilung zu aktivieren. \nAn diesem Tag kann ich Dich dabei unterstützen diese Blockaden zu lösen\, damit Du in Deine Erfüllung kommst. \nDeshalb biete ich auf vielfachen Wunsch noch einmal an\, die wirkungsvollsten Techniken von meiner 30-jährigen Reise um die Welt um Heilung zu erlangen\, bei Einzelnen anzuwenden. \nFreue mich wenn Du dabei bist und ich Dich unterstützen darf. \nWann: 17. Mai 2025 von 13:00 bis ca. 19:00 Uhr – Einlass 12:00 Uhr \nWo: Drexel´s Landgut Adler\, Ursberger Str. 20\, 86381 Krumbach\, Deutschland \nEssen und Getränke stehen zum Kauf bereit. \n❣️ AM VERANSTALTUNGSORT SELBST GIBT ES KEINE ÜBERNACHTUNGSMÖGLICHKEITEN – bitte deshalb nicht dort anrufen❣️ Bitte in der näheren Umgebung selbst etwas passendes suchen.
URL:https://sht-zielerreichung.com/event/aktivierung-seelenplan/
LOCATION:Drexel´s Landgut Adler\, Ursberger Str. 20\, Krumbach\, 86381\, Germany
CATEGORIES:Live-Seminar,Roberto Antela Martinez
ATTACH;FMTTYPE=image/jpeg:https://sht-zielerreichung.com/wp-content/uploads/2025/01/IMAGE-2025-01-15-145932.jpg
ORGANIZER;CN="Bleib Gesund %E2%80%93 Bildungsverein f%C3%BCr ganzheitliche Gesundheit und Wohlbefinden in Verbindung mit der pragmatischen Selbsthilfe":MAILTO:sht@selbstheilungstechnik.com
END:VEVENT
BEGIN:VEVENT
DTSTART;TZID=Europe/Berlin:20250316T110000
DTEND;TZID=Europe/Berlin:20250316T180000
DTSTAMP:20260422T161139
CREATED:20241213T180235Z
LAST-MODIFIED:20241227T170243Z
UID:10000005-1742122800-1742148000@sht-zielerreichung.com
SUMMARY:Aktivierung deines Seelenplans für deine Selbstheilung
DESCRIPTION:Oftmals gibt es Blockaden\, die uns daran hindern mit unserem Seelenplan eins zu werden und diesen wahrhaftig zu leben. An diesem Tag kann ich Dich dabei unterstützen diese Blockaden zu lösen\, damit Du in Deine Erfüllung kommst. \nDeshalb biete ich auf vielfachen Wunsch noch einmal an\, die wirkungsvollsten Techniken von meiner 30-jährigen Reise um die Welt um Heilung zu erlangen\, bei Einzelnen anzuwenden. \nAls Zusatz gibt es eine Kräuteressenz aus Patagonien. Ich bin sehr dankbar\, dass ich jedem dies mitgeben darf. Eine wertvolle Essenz\, die Dich ganz nach vorne bringt und Deine Selbstheilungskräfte richtig aktiviert. \nMehr geht nicht✨✨🧘🏻‍♂️✨✨ \nWenn du dabei sein möchtest\, melde dich gleich an\, da die Plätze begrenzt sind❣️ \n  \nWann: 16. März 2025 von 11:00 bis ca. 18:00 Uhr – Einlass 10:00 \nWo: Das Drexel´s\, Ursberger Str. 24\, 86381 Krumbach\, Deutschland \nDer Eintritt beträgt 48.- Euro. Im Ticketpreis sind somit 25.- für das Mittagessen (Buffet\, vegetarisch – vegan – ❤️haft) enthalten. Da es in der Umgebung keine Restaurants oder ähnliche Optionen gibt\, möchten wir sicherstellen\, dass du trotzdem gut versorgt bist! \nGetränke stehen zum Kauf bereit.
URL:https://sht-zielerreichung.com/event/aktivierung-deines-seelenplans-fuer-deine-selbstheilung/
LOCATION:Das Drexel’s\, Ursberger Str. 24\, Krumbach\, 86381\, Germany
CATEGORIES:Roberto Antela Martinez
ATTACH;FMTTYPE=image/png:https://sht-zielerreichung.com/wp-content/uploads/2024/12/2.png
ORGANIZER;CN="Bleib Gesund %E2%80%93 Bildungsverein f%C3%BCr ganzheitliche Gesundheit und Wohlbefinden in Verbindung mit der pragmatischen Selbsthilfe":MAILTO:sht@selbstheilungstechnik.com
END:VEVENT
BEGIN:VEVENT
DTSTART;TZID=Europe/Berlin:20250315T110000
DTEND;TZID=Europe/Berlin:20250315T180000
DTSTAMP:20260422T161139
CREATED:20241213T180210Z
LAST-MODIFIED:20250115T152430Z
UID:10000004-1742036400-1742061600@sht-zielerreichung.com
SUMMARY:Jahrestreffen "Big Bang"
DESCRIPTION:Das Jahresfest der Superlative können wir zusammen erleben.💫🌈💫🌈💫 \nNeue Möglichkeiten\, kreative Entwicklungen/Chancen sowie aufregende Überraschungen😍 und Neuigkeiten erwarten uns. \nFreue mich sehr\, wenn wir uns wiedersehen um gemeinsam das Leben zu feiern uns alle zu erinnern\, dass wir reine Liebe 💗 sind und unendlich viel bewirken können – zum Wohle des Ganzen 🙏🏼🍀🙏🏼🍀🙏🏼 \nBist Du dabei? \nWann: 15. März 2025 von 11:00 bis ca. 18:00 Uhr – Einlass 10:00 \nWo: Das Drexel´s\, Ursberger Str. 24\, 86381 Krumbach\, Deutschland \nDer Eintritt beträgt 44.- Euro. Im Ticketpreis sind somit 25.- für das Mittagessen (Buffet\, vegetarisch – vegan – ❤️haft) enthalten. Da es in der Umgebung keine Restaurants oder ähnliche Optionen gibt\, möchten wir sicherstellen\, dass du trotzdem gut versorgt bist! \nGetränke stehen zum Kauf bereit.
URL:https://sht-zielerreichung.com/event/jahrestreffen-big-bang/
LOCATION:Das Drexel’s\, Ursberger Str. 24\, Krumbach\, 86381\, Germany
CATEGORIES:Live-Seminar,Roberto Antela Martinez
ATTACH;FMTTYPE=image/jpeg:https://sht-zielerreichung.com/wp-content/uploads/2024/12/IMAGE-2024-12-12-180656.jpg
ORGANIZER;CN="Bleib Gesund %E2%80%93 Bildungsverein f%C3%BCr ganzheitliche Gesundheit und Wohlbefinden in Verbindung mit der pragmatischen Selbsthilfe":MAILTO:sht@selbstheilungstechnik.com
END:VEVENT
END:VCALENDAR